BEGIN:VCALENDAR
VERSION:2.0
PRODID:-//Espace Confluence - ECPv6.5.0//NONSGML v1.0//EN
CALSCALE:GREGORIAN
METHOD:PUBLISH
X-ORIGINAL-URL:https://www.espaceconfluence.fr
X-WR-CALDESC:évènements pour Espace Confluence
REFRESH-INTERVAL;VALUE=DURATION:PT1H
X-Robots-Tag:noindex
X-PUBLISHED-TTL:PT1H
BEGIN:VTIMEZONE
TZID:Europe/Paris
BEGIN:DAYLIGHT
TZOFFSETFROM:+0100
TZOFFSETTO:+0200
TZNAME:CEST
DTSTART:20220327T010000
END:DAYLIGHT
BEGIN:STANDARD
TZOFFSETFROM:+0200
TZOFFSETTO:+0100
TZNAME:CET
DTSTART:20221030T010000
END:STANDARD
BEGIN:DAYLIGHT
TZOFFSETFROM:+0100
TZOFFSETTO:+0200
TZNAME:CEST
DTSTART:20230326T010000
END:DAYLIGHT
BEGIN:STANDARD
TZOFFSETFROM:+0200
TZOFFSETTO:+0100
TZNAME:CET
DTSTART:20231029T010000
END:STANDARD
BEGIN:DAYLIGHT
TZOFFSETFROM:+0100
TZOFFSETTO:+0200
TZNAME:CEST
DTSTART:20240331T010000
END:DAYLIGHT
BEGIN:STANDARD
TZOFFSETFROM:+0200
TZOFFSETTO:+0100
TZNAME:CET
DTSTART:20241027T010000
END:STANDARD
END:VTIMEZONE
BEGIN:VEVENT
DTSTART;TZID=Europe/Paris:20240608T143000
DTEND;TZID=Europe/Paris:20240608T173000
DTSTAMP:20260424T101308
CREATED:20240521T094218Z
LAST-MODIFIED:20240521T094220Z
UID:2374-1717857000-1717867800@www.espaceconfluence.fr
SUMMARY:Après-midi échecs !
DESCRIPTION:Organisé par l’Echiquier Romanais Péageois \n\n\n\nPlus d’informations : 06.79.89.64.60
URL:https://www.espaceconfluence.fr/evenement/apres-midi-echecs/
END:VEVENT
BEGIN:VEVENT
DTSTART;TZID=Europe/Paris:20230527T100000
DTEND;TZID=Europe/Paris:20230527T120000
DTSTAMP:20260424T101308
CREATED:20220920T083948Z
LAST-MODIFIED:20220920T083949Z
UID:1902-1685181600-1685188800@www.espaceconfluence.fr
SUMMARY:Atelier peinture-adultes
DESCRIPTION:
URL:https://www.espaceconfluence.fr/evenement/atelier-peinture-adultes-14/
LOCATION:Espace Confluence\, 42 place jacquemart\, Romans-sur-Isère\, 26100\, France
CATEGORIES:Loisir,Peinture
END:VEVENT
BEGIN:VEVENT
DTSTART;TZID=Europe/Paris:20230524T150000
DTEND;TZID=Europe/Paris:20230524T160000
DTSTAMP:20260424T101308
CREATED:20220919T142027Z
LAST-MODIFIED:20220919T142028Z
UID:1870-1684940400-1684944000@www.espaceconfluence.fr
SUMMARY:Atelier peinture-enfants
DESCRIPTION:
URL:https://www.espaceconfluence.fr/evenement/atelier-peinture-enfants-13/
LOCATION:Espace Confluence\, 42 place jacquemart\, Romans-sur-Isère\, 26100\, France
CATEGORIES:Loisir,Peinture
END:VEVENT
BEGIN:VEVENT
DTSTART;TZID=Europe/Paris:20230513T100000
DTEND;TZID=Europe/Paris:20230513T120000
DTSTAMP:20260424T101308
CREATED:20220920T083840Z
LAST-MODIFIED:20220920T083841Z
UID:1901-1683972000-1683979200@www.espaceconfluence.fr
SUMMARY:Atelier peinture-adultes
DESCRIPTION:
URL:https://www.espaceconfluence.fr/evenement/atelier-peinture-adultes-13/
LOCATION:Espace Confluence\, 42 place jacquemart\, Romans-sur-Isère\, 26100\, France
CATEGORIES:Loisir,Peinture
END:VEVENT
BEGIN:VEVENT
DTSTART;TZID=Europe/Paris:20230510T150000
DTEND;TZID=Europe/Paris:20230510T160000
DTSTAMP:20260424T101308
CREATED:20220919T141915Z
LAST-MODIFIED:20220919T141916Z
UID:1869-1683730800-1683734400@www.espaceconfluence.fr
SUMMARY:Ateliers peinture-enfants
DESCRIPTION:
URL:https://www.espaceconfluence.fr/evenement/ateliers-peinture-enfants/
LOCATION:Espace Confluence\, 42 place jacquemart\, Romans-sur-Isère\, 26100\, France
CATEGORIES:Loisir,Peinture
END:VEVENT
BEGIN:VEVENT
DTSTART;TZID=Europe/Paris:20230429T100000
DTEND;TZID=Europe/Paris:20230429T120000
DTSTAMP:20260424T101308
CREATED:20220920T083628Z
LAST-MODIFIED:20220920T083629Z
UID:1898-1682762400-1682769600@www.espaceconfluence.fr
SUMMARY:Atelier peinture-adultes
DESCRIPTION:
URL:https://www.espaceconfluence.fr/evenement/atelier-peinture-adultes-12/
LOCATION:Espace Confluence\, 42 place jacquemart\, Romans-sur-Isère\, 26100\, France
CATEGORIES:Loisir,Peinture
END:VEVENT
BEGIN:VEVENT
DTSTART;TZID=Europe/Paris:20230426T150000
DTEND;TZID=Europe/Paris:20230426T160000
DTSTAMP:20260424T101308
CREATED:20220919T141725Z
LAST-MODIFIED:20220919T141725Z
UID:1867-1682521200-1682524800@www.espaceconfluence.fr
SUMMARY:Atelier peinture-enfants
DESCRIPTION:
URL:https://www.espaceconfluence.fr/evenement/atelier-peinture-enfants-12/
LOCATION:Espace Confluence\, 42 place jacquemart\, Romans-sur-Isère\, 26100\, France
END:VEVENT
BEGIN:VEVENT
DTSTART;TZID=Europe/Paris:20230405T150000
DTEND;TZID=Europe/Paris:20230405T160000
DTSTAMP:20260424T101308
CREATED:20220919T141458Z
LAST-MODIFIED:20220919T141459Z
UID:1865-1680706800-1680710400@www.espaceconfluence.fr
SUMMARY:Atelier peinture-enfants
DESCRIPTION:
URL:https://www.espaceconfluence.fr/evenement/atelier-peinture-enfants-11/
CATEGORIES:Loisir,Peinture
END:VEVENT
BEGIN:VEVENT
DTSTART;TZID=Europe/Paris:20230325T100000
DTEND;TZID=Europe/Paris:20230325T120000
DTSTAMP:20260424T101308
CREATED:20220920T083442Z
LAST-MODIFIED:20220920T083443Z
UID:1897-1679738400-1679745600@www.espaceconfluence.fr
SUMMARY:Atelier peinture-adultes
DESCRIPTION:
URL:https://www.espaceconfluence.fr/evenement/atelier-peinture-adultes-11/
LOCATION:Espace Confluence\, 42 place jacquemart\, Romans-sur-Isère\, 26100\, France
CATEGORIES:Loisir,Peinture
END:VEVENT
BEGIN:VEVENT
DTSTART;TZID=Europe/Paris:20230322T150000
DTEND;TZID=Europe/Paris:20230322T160000
DTSTAMP:20260424T101308
CREATED:20220919T141325Z
LAST-MODIFIED:20220919T141325Z
UID:1863-1679497200-1679500800@www.espaceconfluence.fr
SUMMARY:Atelier peinture-enfants
DESCRIPTION:
URL:https://www.espaceconfluence.fr/evenement/atelier-peinture-enfants-10/
CATEGORIES:Loisir,Peinture
END:VEVENT
BEGIN:VEVENT
DTSTART;TZID=Europe/Paris:20230311T100000
DTEND;TZID=Europe/Paris:20230311T120000
DTSTAMP:20260424T101308
CREATED:20220920T083217Z
LAST-MODIFIED:20220920T083250Z
UID:1895-1678528800-1678536000@www.espaceconfluence.fr
SUMMARY:Atelier peinture-adultes
DESCRIPTION:
URL:https://www.espaceconfluence.fr/evenement/atelier-peinture-adultes-10/
LOCATION:Espace Confluence\, 42 place jacquemart\, Romans-sur-Isère\, 26100\, France
CATEGORIES:Loisir,Peinture
END:VEVENT
BEGIN:VEVENT
DTSTART;TZID=Europe/Paris:20230308T150000
DTEND;TZID=Europe/Paris:20230308T160000
DTSTAMP:20260424T101308
CREATED:20220919T135933Z
LAST-MODIFIED:20220919T141026Z
UID:1858-1678287600-1678291200@www.espaceconfluence.fr
SUMMARY:Atelier peinture-enfants
DESCRIPTION:
URL:https://www.espaceconfluence.fr/evenement/atelier-peinture-enfants-9/
CATEGORIES:Loisir,Peinture
END:VEVENT
BEGIN:VEVENT
DTSTART;TZID=Europe/Paris:20230225T100000
DTEND;TZID=Europe/Paris:20230225T120000
DTSTAMP:20260424T101308
CREATED:20220920T082911Z
LAST-MODIFIED:20220920T083044Z
UID:1892-1677319200-1677326400@www.espaceconfluence.fr
SUMMARY:Atelier peinture-adultes
DESCRIPTION:
URL:https://www.espaceconfluence.fr/evenement/atelier-peinture-adultes-9/
LOCATION:Espace Confluence\, 42 place jacquemart\, Romans-sur-Isère\, 26100\, France
CATEGORIES:Loisir,Peinture
END:VEVENT
BEGIN:VEVENT
DTSTART;TZID=Europe/Paris:20230222T120000
DTEND;TZID=Europe/Paris:20230222T120000
DTSTAMP:20260424T101308
CREATED:20220919T135409Z
LAST-MODIFIED:20220919T135440Z
UID:1854-1677067200-1677067200@www.espaceconfluence.fr
SUMMARY:Atelier peinture-enfants
DESCRIPTION:
URL:https://www.espaceconfluence.fr/evenement/atelier-peinture-enfants-8/
CATEGORIES:Loisir,Peinture
END:VEVENT
BEGIN:VEVENT
DTSTART;TZID=Europe/Paris:20230204T100000
DTEND;TZID=Europe/Paris:20230204T120000
DTSTAMP:20260424T101308
CREATED:20220920T082723Z
LAST-MODIFIED:20220920T082724Z
UID:1890-1675504800-1675512000@www.espaceconfluence.fr
SUMMARY:Atelier peinture-adultes
DESCRIPTION:
URL:https://www.espaceconfluence.fr/evenement/atelier-peinture-adultes-8/
LOCATION:Espace Confluence\, 42 place jacquemart\, Romans-sur-Isère\, 26100\, France
CATEGORIES:Loisir,Peinture
END:VEVENT
BEGIN:VEVENT
DTSTART;TZID=Europe/Paris:20230201T150000
DTEND;TZID=Europe/Paris:20230201T160000
DTSTAMP:20260424T101308
CREATED:20220919T135051Z
LAST-MODIFIED:20220919T135223Z
UID:1852-1675263600-1675267200@www.espaceconfluence.fr
SUMMARY:Atelier peinture-enfants
DESCRIPTION:
URL:https://www.espaceconfluence.fr/evenement/atelier-peinture-enfants-7/
CATEGORIES:Loisir,Peinture
END:VEVENT
BEGIN:VEVENT
DTSTART;TZID=Europe/Paris:20230121T100000
DTEND;TZID=Europe/Paris:20230121T120000
DTSTAMP:20260424T101308
CREATED:20220920T082534Z
LAST-MODIFIED:20220920T082535Z
UID:1888-1674295200-1674302400@www.espaceconfluence.fr
SUMMARY:Atelier peinture-adultes
DESCRIPTION:
URL:https://www.espaceconfluence.fr/evenement/atelier-peinture-adultes-7/
LOCATION:Espace Confluence\, 42 place jacquemart\, Romans-sur-Isère\, 26100\, France
CATEGORIES:Loisir,Peinture
END:VEVENT
BEGIN:VEVENT
DTSTART;TZID=Europe/Paris:20230118T080000
DTEND;TZID=Europe/Paris:20230118T170000
DTSTAMP:20260424T101308
CREATED:20220919T134857Z
LAST-MODIFIED:20220919T134907Z
UID:1850-1674028800-1674061200@www.espaceconfluence.fr
SUMMARY:Atelier peinture-enfants
DESCRIPTION:Plus d’informations
URL:https://www.espaceconfluence.fr/evenement/atelier-peinture-enfants-6/
LOCATION:Espace Confluence\, 42 place jacquemart\, Romans-sur-Isère\, 26100\, France
CATEGORIES:Loisir,Peinture
END:VEVENT
BEGIN:VEVENT
DTSTART;TZID=Europe/Paris:20230111T140000
DTEND;TZID=Europe/Paris:20230111T150000
DTSTAMP:20260424T101308
CREATED:20220919T095212Z
LAST-MODIFIED:20220919T095213Z
UID:1813-1673445600-1673449200@www.espaceconfluence.fr
SUMMARY:Cours d'anglais-enfants
DESCRIPTION:Plus d’informations
URL:https://www.espaceconfluence.fr/evenement/cours-anglais-enfants-5/
LOCATION:Espace Confluence\, 42 place jacquemart\, Romans-sur-Isère\, 26100\, France
END:VEVENT
BEGIN:VEVENT
DTSTART;TZID=Europe/Paris:20230107T100000
DTEND;TZID=Europe/Paris:20230107T120000
DTSTAMP:20260424T101308
CREATED:20220920T082346Z
LAST-MODIFIED:20220920T082354Z
UID:1886-1673085600-1673092800@www.espaceconfluence.fr
SUMMARY:Atelier peinture-adultes
DESCRIPTION:
URL:https://www.espaceconfluence.fr/evenement/atelier-peinture-adultes-6/
LOCATION:Espace Confluence\, 42 place jacquemart\, Romans-sur-Isère\, 26100\, France
CATEGORIES:Loisir,Peinture
END:VEVENT
BEGIN:VEVENT
DTSTART;TZID=Europe/Paris:20230104T150000
DTEND;TZID=Europe/Paris:20230104T160000
DTSTAMP:20260424T101308
CREATED:20220919T134532Z
LAST-MODIFIED:20220919T134552Z
UID:1848-1672844400-1672848000@www.espaceconfluence.fr
SUMMARY:Atelier peinture-enfants
DESCRIPTION:Plus d’informations
URL:https://www.espaceconfluence.fr/evenement/atelier-peinture-enfants-5/
LOCATION:Espace Confluence\, 42 place jacquemart\, Romans-sur-Isère\, 26100\, France
CATEGORIES:Loisir,Peinture
END:VEVENT
BEGIN:VEVENT
DTSTART;TZID=Europe/Paris:20230104T140000
DTEND;TZID=Europe/Paris:20230104T150000
DTSTAMP:20260424T101308
CREATED:20220919T094903Z
LAST-MODIFIED:20220919T094935Z
UID:1811-1672840800-1672844400@www.espaceconfluence.fr
SUMMARY:Cours d'anglais-enfants
DESCRIPTION:Plus d’informations
URL:https://www.espaceconfluence.fr/evenement/cours-anglais-enfants-4/
LOCATION:Espace Confluence\, 42 place jacquemart\, Romans-sur-Isère\, 26100\, France
END:VEVENT
BEGIN:VEVENT
DTSTART;TZID=Europe/Paris:20221214T140000
DTEND;TZID=Europe/Paris:20221214T150000
DTSTAMP:20260424T101308
CREATED:20220919T094500Z
LAST-MODIFIED:20220919T094501Z
UID:1809-1671026400-1671030000@www.espaceconfluence.fr
SUMMARY:Cours d'anglais-enfants
DESCRIPTION:Plus d’informations
URL:https://www.espaceconfluence.fr/evenement/cours-danglais-enfants-2/
LOCATION:Espace Confluence\, 42 place jacquemart\, Romans-sur-Isère\, 26100\, France
END:VEVENT
BEGIN:VEVENT
DTSTART;TZID=Europe/Paris:20221210T083000
DTEND;TZID=Europe/Paris:20221210T120000
DTSTAMP:20260424T101308
CREATED:20220816T101959Z
LAST-MODIFIED:20220919T081921Z
UID:1523-1670661000-1670673600@www.espaceconfluence.fr
SUMMARY:Formation gestion de budget
DESCRIPTION:Places limitées ! \n\n\n\n\n\n\n\nPrérequis :  \n\n\n\nordinateur portable avec Microsoft Excel (idéalement minimum Excel 2016)être membre* de l’association pour l’année en cours (Adhésion annuelle 2022 : 10€)\n\n\n\n\n\n\n\nTarif : \n\n\n\nPARTICIPATION LIBRE \n\n\n\n\n\n\n\nINSCRIPTION \n\n\n\nSur place ou par e-mail : contact@espaceconfluence.fr \n\n\n\n\nTélécharger mon formulaire d’inscription
URL:https://www.espaceconfluence.fr/evenement/formation-gestion-budget-2/
LOCATION:Espace Confluence\, 42 place jacquemart\, Romans-sur-Isère\, 26100\, France
CATEGORIES:Formations
END:VEVENT
BEGIN:VEVENT
DTSTART;TZID=Europe/Paris:20221207T150000
DTEND;TZID=Europe/Paris:20221207T160000
DTSTAMP:20260424T101308
CREATED:20220919T134316Z
LAST-MODIFIED:20220919T134343Z
UID:1845-1670425200-1670428800@www.espaceconfluence.fr
SUMMARY:Atelier peinture-enfants
DESCRIPTION:Plus d’informations
URL:https://www.espaceconfluence.fr/evenement/atelier-peinture-enfants-4/
LOCATION:Espace Confluence\, 42 place jacquemart\, Romans-sur-Isère\, 26100\, France
CATEGORIES:Loisir,Peinture
END:VEVENT
BEGIN:VEVENT
DTSTART;TZID=Europe/Paris:20221207T140000
DTEND;TZID=Europe/Paris:20221207T150000
DTSTAMP:20260424T101308
CREATED:20220919T094321Z
LAST-MODIFIED:20220919T094322Z
UID:1807-1670421600-1670425200@www.espaceconfluence.fr
SUMMARY:Cours d'anglais-enfants
DESCRIPTION:Plus d’informations
URL:https://www.espaceconfluence.fr/evenement/cours-anglais-enfants-3/
LOCATION:Espace Confluence\, 42 place jacquemart\, Romans-sur-Isère\, 26100\, France
END:VEVENT
BEGIN:VEVENT
DTSTART;TZID=Europe/Paris:20221203T100000
DTEND;TZID=Europe/Paris:20221203T120000
DTSTAMP:20260424T101308
CREATED:20220920T082127Z
LAST-MODIFIED:20220920T082128Z
UID:1884-1670061600-1670068800@www.espaceconfluence.fr
SUMMARY:Atelier peinture-adultes
DESCRIPTION:
URL:https://www.espaceconfluence.fr/evenement/atelier-peinture-adultes-5/
LOCATION:Espace Confluence\, 42 place jacquemart\, Romans-sur-Isère\, 26100\, France
CATEGORIES:Loisir,Peinture
END:VEVENT
BEGIN:VEVENT
DTSTART;TZID=Europe/Paris:20221202T090000
DTEND;TZID=Europe/Paris:20221202T120000
DTSTAMP:20260424T101308
CREATED:20220905T122622Z
LAST-MODIFIED:20220920T084411Z
UID:1759-1669971600-1669982400@www.espaceconfluence.fr
SUMMARY:Aide administrative
DESCRIPTION:Plus d’informations
URL:https://www.espaceconfluence.fr/evenement/aide-administrative-3/
CATEGORIES:Aide administrative
END:VEVENT
BEGIN:VEVENT
DTSTART;TZID=Europe/Paris:20221126T083000
DTEND;TZID=Europe/Paris:20221126T120000
DTSTAMP:20260424T101308
CREATED:20220816T100425Z
LAST-MODIFIED:20220919T082208Z
UID:1515-1669451400-1669464000@www.espaceconfluence.fr
SUMMARY:Formation  gestion de budget
DESCRIPTION:Places limitées ! \n\n\n\n\n\n\n\nPrérequis :  \n\n\n\nordinateur portable avec Microsoft Excel (idéalement minimum Excel 2016)être membre de l’association pour l’année en cours (Adhésion annuelle 2022 : 10€)\n\n\n\n\n\n\n\n\n\n\n\nTarif : \n\n\n\nPARTICIPATION LIB \n\n\n\nINSCRIPTION \n\n\n\nSur place ou par e-mail : contact@espaceconfluence.fr \n\n\n\n\nTélécharger mon formulaire d’inscription
URL:https://www.espaceconfluence.fr/evenement/formation-gestion-de-budget-1/
LOCATION:Espace Confluence\, 42 place jacquemart\, Romans-sur-Isère\, 26100\, France
END:VEVENT
BEGIN:VEVENT
DTSTART;TZID=Europe/Paris:20221123T150000
DTEND;TZID=Europe/Paris:20221123T160000
DTSTAMP:20260424T101308
CREATED:20220919T133613Z
LAST-MODIFIED:20220919T133614Z
UID:1842-1669215600-1669219200@www.espaceconfluence.fr
SUMMARY:Atelier peinture-enfants
DESCRIPTION:Plus d’informations
URL:https://www.espaceconfluence.fr/evenement/atelier-peinture-enfants-3/
LOCATION:Espace Confluence\, 42 place jacquemart\, Romans-sur-Isère\, 26100\, France
CATEGORIES:Loisir,Peinture
END:VEVENT
END:VCALENDAR